BEGIN:VCALENDAR
VERSION:2.0
PRODID:-//eventon.com NONSGML v1.0//EN
BEGIN:VEVENT
UID:69e7380b67d31
DTSTAMP:20260421T104043
DTSTART:20200801T170000Z
DTEND:20200801T215000Z
LOCATION:Castello della Manta Via De Rege Thesauro 5\,  Manta (CN)
SUMMARY:Yuri Yague (chitarra classica)
DESCRIPTION: Yuri Yague (chitarra classica)
END:VEVENT
END:VCALENDAR