BEGIN:VCALENDAR
VERSION:2.0
PRODID:-//eventon.com NONSGML v1.0//EN
BEGIN:VEVENT
UID:69e748ec7c91c
DTSTAMP:20260421T115244
DTSTART:20190721T191500Z
DTEND:20190721T215000Z
LOCATION:San Pietro in Vincoli Zona Teatro Via San Pietro in Vincoli 28\,  10152 Torino
SUMMARY:Trio Mirto-Minci-Cipriani (chitarre)
DESCRIPTION: Trio Mirto-Minci-Cipriani (chitarre)
END:VEVENT
END:VCALENDAR