BEGIN:VCALENDAR
VERSION:2.0
PRODID:-//eventon.com NONSGML v1.0//EN
BEGIN:VEVENT
UID:69e75b89068d7
DTSTAMP:20260421T131209
DTSTART:20190720T191500Z
DTEND:20190720T215000Z
LOCATION:San Pietro in Vincoli Zona Teatro Via San Pietro in Vincoli 28\,  10152 Torino
SUMMARY:Duo Imperial (chitarra\,  viola)
DESCRIPTION: Duo Imperial (chitarra\,  viola)
END:VEVENT
END:VCALENDAR