BEGIN:VCALENDAR
VERSION:2.0
PRODID:-//eventon.com NONSGML v1.0//EN
BEGIN:VEVENT
UID:69e76f9e2fab8
DTSTAMP:20260421T143750
DTSTART:20190612T191500Z
DTEND:20190612T215000Z
LOCATION:Unione Culturale Franco Antonicelli via Battisti 4\,  10100 - Torino
SUMMARY:Mirta Alvarez (chitarra)
DESCRIPTION: Mirta Alvarez (chitarra)
END:VEVENT
END:VCALENDAR