BEGIN:VCALENDAR
VERSION:2.0
PRODID:-//eventon.com NONSGML v1.0//EN
BEGIN:VEVENT
UID:69e786997d74d
DTSTAMP:20260421T161553
DTSTART:20190611T191500Z
DTEND:20190611T215000Z
LOCATION:Unione Culturale Franco Antonicelli via Battisti 4\,  10100 - Torino
SUMMARY:Mirta Alvarez (chitarra)
DESCRIPTION: Mirta Alvarez (chitarra)
END:VEVENT
END:VCALENDAR