BEGIN:VCALENDAR
VERSION:2.0
PRODID:-//eventon.com NONSGML v1.0//EN
BEGIN:VEVENT
UID:69e797b627c53
DTSTAMP:20260421T172854
DTSTART:20181104T160000Z
DTEND:20181103T230000Z
LOCATION:Casa delle Culture e della Musica Piazza Trento e Trieste\,  00049 Velletri RM
SUMMARY:Marco Del Greco (chitarra)\,  Anna Antonova (pianoforte)
DESCRIPTION: Marco Del Greco (chitarra)\,  Anna Antonova (pianoforte)
END:VEVENT
END:VCALENDAR