BEGIN:VCALENDAR
VERSION:2.0
PRODID:-//eventon.com NONSGML v1.0//EN
BEGIN:VEVENT
UID:69e7c29e1966b
DTSTAMP:20260421T203158
DTSTART:20181030T190000Z
DTEND:20181029T230000Z
LOCATION:Casa delle Culture e della Musica Piazza Trento e Trieste\,  00049 Velletri RM
SUMMARY:Maximo Diego Pujol (chitarra)
DESCRIPTION: Maximo Diego Pujol (chitarra)
END:VEVENT
END:VCALENDAR