BEGIN:VCALENDAR
VERSION:2.0
PRODID:-//eventon.com NONSGML v1.0//EN
BEGIN:VEVENT
UID:69e7c30e87346
DTSTAMP:20260421T203350
DTSTART:20181021T160000Z
DTEND:20181021T215000Z
LOCATION:Chiesa Sant’Antonio di Padova Via Sant’Antonio\,  50\,  03043 Cassino FR
SUMMARY:Fatih Murat Belli (chitarra)
DESCRIPTION: Fatih Murat Belli (chitarra)
END:VEVENT
END:VCALENDAR