BEGIN:VCALENDAR
VERSION:2.0
PRODID:-//eventon.com NONSGML v1.0//EN
BEGIN:VEVENT
UID:69e7d497c39dc
DTSTAMP:20260421T214839
DTSTART:20181020T160000Z
DTEND:20181020T215000Z
LOCATION:Casa delle Culture e della Musica Piazza Trento e Trieste\,  00049 Velletri RM
SUMMARY:Fatih Murat Belli (chitarra)
DESCRIPTION: Fatih Murat Belli (chitarra)
END:VEVENT
END:VCALENDAR