BEGIN:VCALENDAR
VERSION:2.0
PRODID:-//eventon.com NONSGML v1.0//EN
BEGIN:VEVENT
UID:69e7ec8845157
DTSTAMP:20260421T233048
DTSTART:20181014T160000Z
DTEND:20181013T230000Z
LOCATION:Chiesa Sant’Antonio di Padova Via Sant’Antonio\,  50\,  03043 Cassino FR
SUMMARY:Alessandro Minci (chitarra) - Loreto Gismondi (violino)
DESCRIPTION: Alessandro Minci (chitarra) - Loreto Gismondi (violino)
END:VEVENT
END:VCALENDAR