BEGIN:VCALENDAR
VERSION:2.0
PRODID:-//eventon.com NONSGML v1.0//EN
BEGIN:VEVENT
UID:69e8015ce4c7f
DTSTAMP:20260422T005940
DTSTART:20181013T160000Z
DTEND:20181012T230000Z
LOCATION:Casa delle Culture e della Musica Piazza Trento e Trieste\,  00049 Velletri RM
SUMMARY:Alessandro Minci (chitarra) - Loreto Gismondi (violino)
DESCRIPTION: Alessandro Minci (chitarra) - Loreto Gismondi (violino)
END:VEVENT
END:VCALENDAR