BEGIN:VCALENDAR
VERSION:2.0
PRODID:-//eventon.com NONSGML v1.0//EN
BEGIN:VEVENT
UID:69e81615b169f
DTSTAMP:20260422T022805
DTSTART:20181012T190000Z
DTEND:20181011T230000Z
LOCATION:Palazzo Altemps (Museo Nazionale Romano) piazza di Sant’Apollinare\,  46 Roma RM
SUMMARY:Alessandro Minci (chitarra) - Loreto Gismondi (violino)
DESCRIPTION: Alessandro Minci (chitarra) - Loreto Gismondi (violino)
END:VEVENT
END:VCALENDAR