BEGIN:VCALENDAR
VERSION:2.0
PRODID:-//eventon.com NONSGML v1.0//EN
BEGIN:VEVENT
UID:69e82c824f090
DTSTAMP:20260422T040346
DTSTART:20181007T160000Z
DTEND:20181006T230000Z
LOCATION:Casa delle Culture e della Musica Piazza Trento e Trieste\,  00049 Velletri RM
SUMMARY:Giorgio Signorile (chitarra)
DESCRIPTION: Giorgio Signorile (chitarra)
END:VEVENT
END:VCALENDAR