BEGIN:VCALENDAR
VERSION:2.0
PRODID:-//eventon.com NONSGML v1.0//EN
BEGIN:VEVENT
UID:69e843164f4d2
DTSTAMP:20260422T054006
DTSTART:20181006T160000Z
DTEND:20181005T230000Z
LOCATION:Casa delle Culture e della Musica Piazza Trento e Trieste\,  00049 Velletri RM
SUMMARY:Giorgio Signorile (chitarra)
DESCRIPTION: Giorgio Signorile (chitarra)
END:VEVENT
END:VCALENDAR