BEGIN:VCALENDAR
VERSION:2.0
PRODID:-//eventon.com NONSGML v1.0//EN
BEGIN:VEVENT
UID:69e86b20aeacc
DTSTAMP:20260422T083056
DTSTART:20180930T160000Z
DTEND:20180929T230000Z
LOCATION:Chiesa di Santa Maria della Minerva Piazza della Minerva\,  42\,  00186 Roma RM
SUMMARY:Dylan Fowler (chitarra) - Gillian Stevens (viola da gamba / crwth) (Copy)
DESCRIPTION: Dylan Fowler (chitarra) - Gillian Stevens (viola da gamba / crwth) (Copy)
END:VEVENT
END:VCALENDAR