BEGIN:VCALENDAR
VERSION:2.0
PRODID:-//eventon.com NONSGML v1.0//EN
BEGIN:VEVENT
UID:69e86b256cb25
DTSTAMP:20260422T083101
DTSTART:20180929T190000Z
DTEND:20180928T230000Z
LOCATION:Casa delle Culture e della Musica Piazza Trento e Trieste\,  00049 Velletri RM
SUMMARY:Dylan Fowler (chitarra) - Gillian Stevens (viola da gamba / crwth)
DESCRIPTION: Dylan Fowler (chitarra) - Gillian Stevens (viola da gamba / crwth)
END:VEVENT
END:VCALENDAR