BEGIN:VCALENDAR
VERSION:2.0
PRODID:-//eventon.com NONSGML v1.0//EN
BEGIN:VEVENT
UID:69e87e4d4ac39
DTSTAMP:20260422T095245
DTSTART:20180928T160000Z
DTEND:20180927T230000Z
LOCATION:Palazzo Altemps (Museo Nazionale Romano) piazza di Sant’Apollinare\,  46 Roma RM
SUMMARY:Dylan Fowler (chitarra) - Gillian Stevens (viola da gamba / crwth)
DESCRIPTION: Dylan Fowler (chitarra) - Gillian Stevens (viola da gamba / crwth)
END:VEVENT
END:VCALENDAR