BEGIN:VCALENDAR
VERSION:2.0
PRODID:-//eventon.com NONSGML v1.0//EN
BEGIN:VEVENT
UID:69eb24cc9cd08
DTSTAMP:20260424T100740
DTSTART:20180923T160000Z
DTEND:20180922T230000Z
LOCATION:Chiesa di Santa Maria della Minerva Piazza della Minerva\,  42\,  00186 Roma RM
SUMMARY:Enrico Negro (chitarra)
DESCRIPTION: Enrico Negro (chitarra)
END:VEVENT
END:VCALENDAR