BEGIN:VCALENDAR
VERSION:2.0
PRODID:-//eventon.com NONSGML v1.0//EN
BEGIN:VEVENT
UID:69eb354ad4e54
DTSTAMP:20260424T111802
DTSTART:20180922T190000Z
DTEND:20180921T230000Z
LOCATION:Casa delle Culture e della Musica Piazza Trento e Trieste\,  00049 Velletri RM
SUMMARY:Enrico Negro (chitarra)
DESCRIPTION: Enrico Negro (chitarra)
END:VEVENT
END:VCALENDAR