BEGIN:VCALENDAR
VERSION:2.0
PRODID:-//eventon.com NONSGML v1.0//EN
BEGIN:VEVENT
UID:69eb5fa22ddda
DTSTAMP:20260424T141842
DTSTART:20180921T190000Z
DTEND:20180920T230000Z
LOCATION:Palazzo Altemps (Museo Nazionale Romano) piazza di Sant’Apollinare\,  46 Roma RM
SUMMARY:Enrico Negro (chitarra)
DESCRIPTION: Enrico Negro (chitarra)
END:VEVENT
END:VCALENDAR