BEGIN:VCALENDAR
VERSION:2.0
PRODID:-//eventon.com NONSGML v1.0//EN
BEGIN:VEVENT
UID:69eb604ec3ba7
DTSTAMP:20260424T142134
DTSTART:20180916T160000Z
DTEND:20180915T230000Z
LOCATION:Chiesa di Santa Maria della Minerva Piazza della Minerva\,  42\,  00186 Roma RM
SUMMARY:Cristiano Poli Cappelli - Andrea Pace (chitarre)
DESCRIPTION: Cristiano Poli Cappelli - Andrea Pace (chitarre)
END:VEVENT
END:VCALENDAR