BEGIN:VCALENDAR
VERSION:2.0
PRODID:-//eventon.com NONSGML v1.0//EN
BEGIN:VEVENT
UID:69eb73c082a70
DTSTAMP:20260424T154432
DTSTART:20180915T190000Z
DTEND:20180914T230000Z
LOCATION:Casa delle Culture e della Musica Piazza Trento e Trieste\,  00049 Velletri RM
SUMMARY:Cristiano Poli Cappelli - Andrea Pace (chitarre)
DESCRIPTION: Cristiano Poli Cappelli - Andrea Pace (chitarre)
END:VEVENT
END:VCALENDAR