BEGIN:VCALENDAR
VERSION:2.0
PRODID:-//eventon.com NONSGML v1.0//EN
BEGIN:VEVENT
UID:69eb8d19849a3
DTSTAMP:20260424T173241
DTSTART:20180804T160000Z
DTEND:20180803T230000Z
LOCATION:Chianocco Chianocco
SUMMARY:Giorgio Signorile (chitarra)
DESCRIPTION: Giorgio Signorile (chitarra)
END:VEVENT
END:VCALENDAR