BEGIN:VCALENDAR
VERSION:2.0
PRODID:-//eventon.com NONSGML v1.0//EN
BEGIN:VEVENT
UID:69eba0cb87467
DTSTAMP:20260424T185643
DTSTART:20180719T191500Z
DTEND:20180718T230000Z
LOCATION:San Pietro in Vincoli Zona Teatro Via San Pietro in Vincoli 28\,  10152 Torino
SUMMARY:Pietro Locatto (chitarra)
DESCRIPTION: Pietro Locatto (chitarra)
END:VEVENT
END:VCALENDAR